BEGIN:VCALENDAR
VERSION:2.0
PRODID:-//Düsseldorf - Amazing Capitals - ECPv6.15.20//NONSGML v1.0//EN
CALSCALE:GREGORIAN
METHOD:PUBLISH
X-WR-CALNAME:Düsseldorf - Amazing Capitals
X-ORIGINAL-URL:https://dusseldorf.amazingcapitals.com
X-WR-CALDESC:Events for Düsseldorf - Amazing Capitals
REFRESH-INTERVAL;VALUE=DURATION:PT1H
X-Robots-Tag:noindex
X-PUBLISHED-TTL:PT1H
BEGIN:VTIMEZONE
TZID:Europe/Madrid
BEGIN:DAYLIGHT
TZOFFSETFROM:+0100
TZOFFSETTO:+0200
TZNAME:CEST
DTSTART:20230326T010000
END:DAYLIGHT
BEGIN:STANDARD
TZOFFSETFROM:+0200
TZOFFSETTO:+0100
TZNAME:CET
DTSTART:20231029T010000
END:STANDARD
BEGIN:DAYLIGHT
TZOFFSETFROM:+0100
TZOFFSETTO:+0200
TZNAME:CEST
DTSTART:20240331T010000
END:DAYLIGHT
BEGIN:STANDARD
TZOFFSETFROM:+0200
TZOFFSETTO:+0100
TZNAME:CET
DTSTART:20241027T010000
END:STANDARD
BEGIN:DAYLIGHT
TZOFFSETFROM:+0100
TZOFFSETTO:+0200
TZNAME:CEST
DTSTART:20250330T010000
END:DAYLIGHT
BEGIN:STANDARD
TZOFFSETFROM:+0200
TZOFFSETTO:+0100
TZNAME:CET
DTSTART:20251026T010000
END:STANDARD
BEGIN:DAYLIGHT
TZOFFSETFROM:+0100
TZOFFSETTO:+0200
TZNAME:CEST
DTSTART:20260329T010000
END:DAYLIGHT
BEGIN:STANDARD
TZOFFSETFROM:+0200
TZOFFSETTO:+0100
TZNAME:CET
DTSTART:20261025T010000
END:STANDARD
END:VTIMEZONE
BEGIN:VEVENT
DTSTART;TZID=Europe/Madrid:20250118T100000
DTEND;TZID=Europe/Madrid:20250126T180000
DTSTAMP:20260422T195049
CREATED:20241203T113152Z
LAST-MODIFIED:20241228T062744Z
UID:27308-1737194400-1737914400@dusseldorf.amazingcapitals.com
SUMMARY:Boot Düsseldorf 2025
DESCRIPTION:Far from typical\, the world’s largest water sports trade fair presents a highly immersive water sports experience for the whole family. Occurring annually\, boot Düsseldorf is like no other and a driving force within its field. \nWith their emphasis on one globally connected community\, exhibitors are multilingual and speak English. International\, expat residents can thus interact on every topic beside\, under or on the water whilst enjoying a phenomenal day of adventure. \nExperience an exciting and interactive day out at boot 2025 and try all the water sports options on offer. Young adults or old\, families with kids\, avid partakers or new to the genre\, literally everyone can enjoy hours full of action and fun. \nJoin the boot.club to receive a two days for the price of one deal. View the interactive floor plan with an overview of exhibitors to help plan your route through the fair. View also the try it out page to discover the myriad of fun sports\, especially for youngsters. \nBeyond Boats\nA community of 1000 exhibitors from more than 60 countries and over 200\,000 visitors from up to 100 nations gathers together in 16 exhibition vast halls. That’s an equivalent of thirty-one football pitches packed with over a thousand vessels as well as innovations\, new products\, traditional and innovative water sport favourites\, a variety of pools and conservation. \nBlue Innovation & Love Your Ocean\nFor years\, boot Düsseldorf has been championing innovations on sustainability and nature conservation\, campaigning for a greener boating industry and the protection of our oceans. Under a new guiding motto “We Love Water”\, the organisers\, partners and exhibitors are sharpening focus and upping the game further. \nProtecting our oceans is an issue that is close to the heart of every water sports fan. Once again this year\, the Blue Innovation Dock in Hall 10\, created by boot and a genuine innovation driver\, will bring together visionaries\, investors and politicians to make the industry fit for the future. \nEach day of the fair there will be presentations on stage and in English. Diverse topics include leaders dialogue – business meets politics\, sustainable propulsion\, financing innovation & start-up disruption\, future fuels\, circular materials\, sustainable nautical tourism & water sports\, innovation for sustainability\, engaging NGOs and all players and engaging citizens & boaters. \nFurthermore\, the Ocean Tribute Award will once again be presented in cooperation with the Prince Albert II of Monaco Foundation and the German Ocean Foundation as part of the trade fair. This award honours environmentally-friendly projects and technical innovations that contribute to a better climate and healthier waters. \nAs pioneers in this field\, marine and water protection have been a priority at boot for a long time with the project Love Your Ocean initiated in 2017. In the same partnership above\, along with environmental activist Emily Penn\, it has attracted much public attention. Presenting the possibilities to protect the ocean and the climate that industry\, science and society already possess today\, it offers the whole theme a broad platform. Companies and projects that have water and climate protection as their goal are grouped in hall 14 with exciting talks held on stage. \nSurfing\nThe meeting point of the surf scene and the place to discover exactly what’s hot right now is Hall 17. With unlimited boardsport action to watch and participate in\, the latest trends and of course lots of fun\, this unique environment can only be found at boot Düsseldorf. The focus is on wingsurfing\, wingfoiling and pumpfoiling and beyond.  Windsurfers\, stand up paddlers (SUP)\, surfers\, wakeboarders\, wave riders\, kitesurfers or skimboarders\, and a complete accessories portfolio can be discovered at the Beach World. \nPaddling\nEncounter a whiff of adventure and wildlife that meanders through hall 14. In-between towering rocks and trees\, a creek meanders over 90 metres. 3 metres wide and 40 centimetres deep\, it flows into two large lakes. Test new canoes and kayaks\, make your first attempts at paddling or even take a brief canoeing tour with the whole family! \nDiving\nHalls 11\, 12 & 13 are where to find your diving paradise above and below water. Experience all the facets of diving. Leave your daily routine behind as you take a dive\, discover state-of-the-art equipment\, the most beautiful holiday destinations and meet other fans of scuba diving. \nThe glass diving tower remains another highlight this year\, just waiting to be experienced by visitors to the fair. Secure yourself a place on a trial dive under professional guidance or move through the water like a mermaid under the eyes of a qualified instructors. \nSeaside\nMake your dream of a perfect holiday at the water come true\, whether coastal or inland\, in the Destination Seaside at boot Düsseldorf. The wide range of possibilities for new and combined forms of holiday include chartering houseboats or sleek sailing yachts along with a stay at a hotel. Or combine a caravanning holiday with water sports. The options are almost unlimited at this vast collection of travel agents in Halls 13 & 14. \nVessels Galore\nA lineup of over 1000 powerboats\, luxury yachts\, sailing yachts\, canoes\, kayaks\, houseboats dinghies as well as diving accessories\, along with innovations and new products. \nA comprehensive line-up awaits to thrill even the most discerning of enthusiasts that ranges from small entry-price boats and dinghies to luxury yachts. \nSailing Boats\nFrom the Nile of 5\,000 years ago to the halls of modern day Düsseldorf\, sailing has never lost its appeal. Navigating the winds and currents is more than a mere sport. The passion of sailing can be experienced once again in the impressive halls 15 & 16. Discover dinghies\, sailing yachts\, catamarans and the latest trends. Experts give sailing fans-in-the-making valuable tips and tricks in the Start Sailing area whilst the little ones get ready to cast off in the boot Sailing School. \nMotor & Super Boats\nWhether your preference is small yet appealing or large and exclusive\, boot has everything you need to make your dream of your own motorised boat come true. Take your time on an impressive walk through the motorboat halls 1\, 3\, 4\, 5 & 9 at boot Düsseldorf and enjoy the fascinating array of motorboats and superboats as well as state-of-the-art equipment and fun products. \nSuper Yachts\nHalls 6 & 7a always attract the crowds at boot Düsseldorf! Luxury and high-end yachts and motor gliders invite you to revel in sheer luxury. The range of super yachts continues to grow and these exceptionally big yachts on show are always worth a visit. So come and enjoy. \nMotors\, Equipment & Accessories\nA real insider’s tip for shopping fans amongst water sports enthusiasts\, boot Düsseldorf  presents an almost overwhelming range of maritime products in Halls 10 & 11. \nEngines\, technical accessories\, marina fittings and fixtures\, boat equipment and accessories\, boat instruments\, watersports clothing\, maritime publications and service providers are all available\, Attractive trade fair offers at great prices can be found here. \nVisit boot Düsseldorf 2025\nFull day tickets are available with registration online for €21\, €14 reduced. Two day tickets are available for €36\, while half day tickets are €12. This year\, children up to and including 12 years of age can attend the fair for free and do not need a ticket. Become a member of the boot.club for free to benefit from reduced entry price of €19 for two days and €14. \nWords Messe Düsseldorf\, story Vincent Green\, Nov 29 2024
URL:https://dusseldorf.amazingcapitals.com/event/boot-dusseldorf-2025/
LOCATION:Convention Centre Düsseldorf\, Messeplatz\, Stockumer Kirchstrasse 61\, Düsseldorf\, 40474
ATTACH;FMTTYPE=image/jpeg:https://dusseldorf.amazingcapitals.com/wp-content/uploads/2024/12/dus-ttd-events-boot-2501.jpg
END:VEVENT
BEGIN:VEVENT
DTSTART;TZID=Europe/Madrid:20241224T230000
DTEND;TZID=Europe/Madrid:20241224T235900
DTSTAMP:20260422T195049
CREATED:20200624T094612Z
LAST-MODIFIED:20240109T120044Z
UID:16535-1735081200-1735084740@dusseldorf.amazingcapitals.com
SUMMARY:Midnight Communion
DESCRIPTION:Christ Church traditionally hosts a wonderful and truly heart-warming Midnight Communion on Christmas Eve for the international English speaking community in Düsseldorf. The Anglican Chaplaincy is frequented by residents originating from many countries.
URL:https://dusseldorf.amazingcapitals.com/event/midnight-communion/
ATTACH;FMTTYPE=image/jpeg:https://dusseldorf.amazingcapitals.com/wp-content/uploads/2020/06/dus-events-christchurch-1.jpg
END:VEVENT
BEGIN:VEVENT
DTSTART;TZID=Europe/Madrid:20241128T000000
DTEND;TZID=Europe/Madrid:20241218T000000
DTSTAMP:20260422T195049
CREATED:20200624T102739Z
LAST-MODIFIED:20240109T113950Z
UID:16538-1732752000-1734480000@dusseldorf.amazingcapitals.com
SUMMARY:Christmas Tree Cutting
DESCRIPTION:TBC! Watch a kitsch seasonal movie and the marvellous experience of a romantic couple or excited family felling a Christmas tree themselves is often revealed. Many American and some British families follow this wonderful tradition in rural regions at this time of year. Cutting your own Tannenbaum is a magnificent experience and the freshness is a joy for those that partake. Fortunately for local expats\, the age-old tradition of felling a fir\, Tanne\, or spruce\, Fichte\, can be upheld the vicinity of Düsseldorf too. \nFestive Gut Diepensiepen in Ratingen offers the opportunity to fell your own tree between November 30 and December 22\, Wednesday Sunday. Schlosshof Garath welcomes you to cut your own tree on a late Advent Sunday otherwise purchase locally sourced trees from early December. Both allow you to cut personally or will fell the Christmas tree of your choice for you. \nThe beautiful scent of a freshly felled Christmas tree with presents piled around the base is more intense. So gather around\, grab some eggnog\, choose someone to read Dr. Seuss’ How the Grinch Stole Christmas and have a very merry Christmas! \nPhoto: © Gut Diepensiepen
URL:https://dusseldorf.amazingcapitals.com/event/christmas-tree-cutting/
ATTACH;FMTTYPE=image/jpeg:https://dusseldorf.amazingcapitals.com/wp-content/uploads/2023/11/dus-events-christmastree-1.jpg
END:VEVENT
BEGIN:VEVENT
DTSTART;VALUE=DATE:20240911
DTEND;VALUE=DATE:20241001
DTSTAMP:20260422T195049
CREATED:20200624T092208Z
LAST-MODIFIED:20240902T132544Z
UID:16529-1726012800-1727740799@dusseldorf.amazingcapitals.com
SUMMARY:Düsseldorf Festival
DESCRIPTION:A magnificent and vibrant collection of performing arts in a large yet surprisingly intimate marquee. The annual düsseldorf festival! draws audiences from near and far with dance\, performance\, theatre\, nouveau cirque and music of many genres. \nThe concept defines itself through experimentation and change\, while offering a unique\, defining atmosphere in the heart of the old town\, Altstadt\, of Düsseldorf. An inspiring selection of national and international artists manage to create spectacular and sophisticated entertainment that touches the soul of packed audiences. \nSince 1991\, the delightful founders Christiane and Andreas have courageously attract new artists. They have long gained wide popularity and acclaim nationally and internationally for their experimental or offbeat performances. Acts can often be experienced in churches\, office buildings\, on improvised stages\, in industrial buildings and open air too. \nThis year’s lineup again includes a wide range of acts and performance from several countries. \nPhoto Frida ©Tamas Lékó
URL:https://dusseldorf.amazingcapitals.com/event/dusseldorf-festival/
ATTACH;FMTTYPE=image/jpeg:https://dusseldorf.amazingcapitals.com/wp-content/uploads/2020/06/dus-events-dusseldorffestival-2024-1.jpg
END:VEVENT
BEGIN:VEVENT
DTSTART;TZID=Europe/Madrid:20240908T110000
DTEND;TZID=Europe/Madrid:20240908T180000
DTSTAMP:20260422T195049
CREATED:20200303T175704Z
LAST-MODIFIED:20240109T114051Z
UID:11727-1725793200-1725818400@dusseldorf.amazingcapitals.com
SUMMARY:City Flea Market Neuss
DESCRIPTION:The city flea market\, Citytrödelmarkt\, in Neuss takes place on two occasions each year. The second occurrence is on a Sunday September. Stands can be found all along the high street and around Markt. The event has a long standing tradition and offers a terrific atmosphere for lovers of the hunt. Since a high proportion of  those presenting their wares are private individuals\, there are potentially great buys available to all.
URL:https://dusseldorf.amazingcapitals.com/event/city-flea-market-2/
LOCATION:City Centre
ORGANIZER;CN="Neuss Marketing":MAILTO:info@neuss-marketing.de
END:VEVENT
BEGIN:VEVENT
DTSTART;VALUE=DATE:20240901
DTEND;VALUE=DATE:20240902
DTSTAMP:20260422T195049
CREATED:20200623T124231Z
LAST-MODIFIED:20240109T114705Z
UID:16497-1725148800-1725235199@dusseldorf.amazingcapitals.com
SUMMARY:Cartwheeling Tournament
DESCRIPTION:TBA! A fascinating cartwheeling tournament has been held in Düsseldorf since the 1937. The annual event is held on the beautiful promenade alongside the river Rhine\, attracting hundreds of children and families. \nThe tradition of performing a cartwheel\, Radschlag\, has been around for many\, many centuries and was originally performed openly on the streets by children as a sign of happiness and joy. The symbol has long been adopted by the city. \nPhoto © Alde Düsseldorfer Bürgergesellschaft von 1920 e.V.
URL:https://dusseldorf.amazingcapitals.com/event/cartwheeling-tournament/
LOCATION:Rhine Promenade Düsseldorf
ATTACH;FMTTYPE=image/jpeg:https://dusseldorf.amazingcapitals.com/wp-content/uploads/2020/06/dus-events-cartwheeling-1.jpg
END:VEVENT
BEGIN:VEVENT
DTSTART;VALUE=DATE:20240823
DTEND;VALUE=DATE:20240826
DTSTAMP:20260422T195049
CREATED:20200623T082435Z
LAST-MODIFIED:20240109T114952Z
UID:16480-1724371200-1724630399@dusseldorf.amazingcapitals.com
SUMMARY:Gourmet Festival
DESCRIPTION:The Gourmet Festival is an explosion of impressions for all the senses. Quality wines and other beverages\, delicious foods and tasty delicacies are on offer along the stunning Königsallee in Düsseldorf. A hundred or so exhibitors are packed along the Kö and some 30.000 visitors are expected annually. \nPhoto © Gourmet Festival
URL:https://dusseldorf.amazingcapitals.com/event/gourmet-festival/
LOCATION:Königsallee Düsseldorf
ATTACH;FMTTYPE=image/jpeg:https://dusseldorf.amazingcapitals.com/wp-content/uploads/2020/06/dus-events-gourmetfestival-1.jpg
END:VEVENT
BEGIN:VEVENT
DTSTART;VALUE=DATE:20240726
DTEND;VALUE=DATE:20240729
DTSTAMP:20260422T195049
CREATED:20200623T101344Z
LAST-MODIFIED:20240109T115221Z
UID:16489-1721952000-1722211199@dusseldorf.amazingcapitals.com
SUMMARY:France Festival
DESCRIPTION:On or around Bastille Day it’s time for Düsseldorf to say say “Vive la France!”. Every year the city celebrates its amicable relations to “La Grande Nation” with the Düsseldorf France Festival\, a fascinating and popular event. \nThe weekend creates an atmosphere of the fête nationale with its francophone community. French culinary specialities and amusements provide the necessary ambience when the old town\, Altstadt\, including the town hall courtyard is transformed into its own petit Paris. \nVisitors to the festival enjoy French lifestyle and enjoy artisan produce such as cheeses\, salamis\, pates\, oils\, pastries\, breads\, crêpes and breads. Many partake of the excellent oysters too. Music\, shows\, acts and other entertainment round up an inspiring collection of attractions. \nPhoto © Destination Düsseldorf
URL:https://dusseldorf.amazingcapitals.com/event/france-festival/
ATTACH;FMTTYPE=image/jpeg:https://dusseldorf.amazingcapitals.com/wp-content/uploads/2020/06/dus-events-francefestival-1.jpg
END:VEVENT
BEGIN:VEVENT
DTSTART;TZID=Europe/Madrid:20240715T150000
DTEND;TZID=Europe/Madrid:20240715T150000
DTSTAMP:20260422T195049
CREATED:20200622T164133Z
LAST-MODIFIED:20240715T164725Z
UID:16468-1721055600-1721055600@dusseldorf.amazingcapitals.com
SUMMARY:Pink Monday
DESCRIPTION:Pink Monday is a longstanding tradition at the funfair which attracting hundreds and thousands of people from the lesbian and gay community alone. This gathering during the evening on the funfair has become one of the most enjoyable LGBT events of the year in the city of Düsseldorf. And it all started long\, long ago at “Schwarzwald Christel”. \nThousands upon thousands of people romp over the fair every year. On this special day many more travel from afar to enjoy the numerous booths\, food and drinks stalls that accompany the rides at the gigantic funfair city along the western shoreline of the river Rhine. The event offers an inspiring day and a fun evening to remember.
URL:https://dusseldorf.amazingcapitals.com/event/pink-monday/
LOCATION:Funfair
ATTACH;FMTTYPE=image/jpeg:https://dusseldorf.amazingcapitals.com/wp-content/uploads/2020/06/dus-events-pinkmonday-3.jpg
END:VEVENT
BEGIN:VEVENT
DTSTART;VALUE=DATE:20240524
DTEND;VALUE=DATE:20240527
DTSTAMP:20260422T195049
CREATED:20200623T125751Z
LAST-MODIFIED:20240109T115527Z
UID:16501-1716508800-1716767999@dusseldorf.amazingcapitals.com
SUMMARY:Christopher Street Day
DESCRIPTION:A combination of demonstration\, political statement\, party and celebration\, the local CSD\, Christopher Street Day\, in Düsseldorf has become well established in the state capital. A stage is prominently placed across from the parliament buildings next to the Rhine promenade. As always\, a great crowd attends from the LGBTI community and beyond.
URL:https://dusseldorf.amazingcapitals.com/event/christopher-street-day/
LOCATION:Rhine Promenade Düsseldorf
ATTACH;FMTTYPE=image/jpeg:https://dusseldorf.amazingcapitals.com/wp-content/uploads/2020/06/dus-ttd-events-1.jpg
END:VEVENT
BEGIN:VEVENT
DTSTART;VALUE=DATE:20240516
DTEND;VALUE=DATE:20240521
DTSTAMP:20260422T195049
CREATED:20200623T092428Z
LAST-MODIFIED:20240109T115350Z
UID:16484-1715817600-1716249599@dusseldorf.amazingcapitals.com
SUMMARY:Book Fair
DESCRIPTION:Known in German as the Book Stroll\, Bücherbummel\, the annual book fair on the Königsallee is an essential part of the urban cultural programme in Düsseldorf. Thousands of people visit the book stalls that line the pavements on the city’s most famous street. \nThe atmosphere of this consumers paradise is uniquely transformed for some ten days giving the boulevard a relaxed\, quieter and almost bohemian flavour. Dating from the mid nineteen-eighties\, one of the goals has always been to assist creating new generations of bookworms. Though the language barrier is ever present\, a visit to the book fair and its treasures can prove highly inspiring. English language treasures can also be found. \nGermany’s largest open air book festival also involves the vigorous literature days with literary recitals for those versed in the German language. Besides activities on the Kö\, various public establishments\, bookstores\, antiquarian shops\, publishing houses\, literary and cultural institutions also open their doors.
URL:https://dusseldorf.amazingcapitals.com/event/book-fair/
ATTACH;FMTTYPE=image/jpeg:https://dusseldorf.amazingcapitals.com/wp-content/uploads/2020/06/dus-ttd-events-bookfair-1.jpg
END:VEVENT
BEGIN:VEVENT
DTSTART;VALUE=DATE:20240512
DTEND;VALUE=DATE:20240513
DTSTAMP:20260422T195049
CREATED:20200303T174727Z
LAST-MODIFIED:20240109T115427Z
UID:11723-1715472000-1715558399@dusseldorf.amazingcapitals.com
SUMMARY:City Flea Market Neuss
DESCRIPTION:The city flea market\, Citytrödelmarkt\, in Neuss takes place on two occasions each year. The first is in May on Mothering Sunday\, the second on a Sunday in September. Stands can be found all along the high street and around Markt. The event has a long standing tradition and offers a terrific atmosphere for lovers of the hunt. Since a high proportion of  those presenting their wares are private individuals\, there are potentially great buys available to all.
URL:https://dusseldorf.amazingcapitals.com/event/city-flea-market/
LOCATION:City Centre
ORGANIZER;CN="Neuss Marketing":MAILTO:info@neuss-marketing.de
END:VEVENT
BEGIN:VEVENT
DTSTART;TZID=Europe/Madrid:20240427T190000
DTEND;TZID=Europe/Madrid:20240427T235900
DTSTAMP:20260422T195049
CREATED:20200623T160805Z
LAST-MODIFIED:20240109T115633Z
UID:16505-1714244400-1714262340@dusseldorf.amazingcapitals.com
SUMMARY:Museums Night
DESCRIPTION:The Night of Museums in Düsseldorf is an ideal opportunity for enthusiasts to discover a diverse local cultural landscape. Museums\, art venues and galleries open their doors from evening till midnight and beyond to welcome and entertain. \nExhibitions are as diverse as the institutions with paintings\, sculptures\, photography\, architecture\, design\, music\, natural history\, film and video installations. Visitors can be encouraged to participate in activities and even the state parliament building becomes a venue. \nPhoto © k/c/e Marketing³
URL:https://dusseldorf.amazingcapitals.com/event/museums-night/
LOCATION:City Centre
ATTACH;FMTTYPE=image/jpeg:https://dusseldorf.amazingcapitals.com/wp-content/uploads/2020/06/dus-events-museumsnight-1.jpg
END:VEVENT
END:VCALENDAR